BEGIN:VCALENDAR
VERSION:2.0
PRODID:-//Burlington Downtown - ECPv6.8.0//NONSGML v1.0//EN
CALSCALE:GREGORIAN
METHOD:PUBLISH
X-WR-CALNAME:Burlington Downtown
X-ORIGINAL-URL:https://burlingtondowntown.ca
X-WR-CALDESC:Events for Burlington Downtown
REFRESH-INTERVAL;VALUE=DURATION:PT1H
X-Robots-Tag:noindex
X-PUBLISHED-TTL:PT1H
BEGIN:VTIMEZONE
TZID:America/Toronto
BEGIN:DAYLIGHT
TZOFFSETFROM:-0500
TZOFFSETTO:-0400
TZNAME:EDT
DTSTART:20250309T070000
END:DAYLIGHT
BEGIN:STANDARD
TZOFFSETFROM:-0400
TZOFFSETTO:-0500
TZNAME:EST
DTSTART:20251102T060000
END:STANDARD
END:VTIMEZONE
BEGIN:VEVENT
DTSTART;TZID=America/Toronto:20250608T110000
DTEND;TZID=America/Toronto:20250608T140000
DTSTAMP:20260420T184227
CREATED:20250411T163746Z
LAST-MODIFIED:20250411T163908Z
UID:48304-1749380400-1749391200@burlingtondowntown.ca
SUMMARY:The Joyful Journey High Tea
DESCRIPTION:Please join us Sunday June 8th from 11-2pm at The Waterfront Hotel Burlington for a joyful afternoon of high tea and entertainment in support of Shifra Homes\, a shelter home for mothers-to-be! Enjoy a Tea Blending Bar\, Tea Card Readings\, Live Music\, Silent Auction\, Prizes and more! \nMINTY Gold & Silver Exchange will be onsite evaluating your unwanted gold and silver items with the option to donate a portion of your payment to the fundraiser! \nTickets are $65 each or two for $120. Tickets available at mintygold.ca
URL:https://burlingtondowntown.ca/event/the-joyful-journey-high-tea/
LOCATION:Waterfront Hotel\, 2020 Lakeshore\, Burlington
ATTACH;FMTTYPE=image/jpeg:https://burlingtondowntown.ca/wp-content/uploads/2025/04/Minty_poster_8p5x11_PopUp_HighTea_v3-1-scaled.jpg
END:VEVENT
END:VCALENDAR