BEGIN:VCALENDAR
VERSION:2.0
PRODID:-//Burlington Downtown - ECPv6.8.0//NONSGML v1.0//EN
CALSCALE:GREGORIAN
METHOD:PUBLISH
X-WR-CALNAME:Burlington Downtown
X-ORIGINAL-URL:https://burlingtondowntown.ca
X-WR-CALDESC:Events for Burlington Downtown
REFRESH-INTERVAL;VALUE=DURATION:PT1H
X-Robots-Tag:noindex
X-PUBLISHED-TTL:PT1H
BEGIN:VTIMEZONE
TZID:America/Toronto
BEGIN:DAYLIGHT
TZOFFSETFROM:-0500
TZOFFSETTO:-0400
TZNAME:EDT
DTSTART:20250309T070000
END:DAYLIGHT
BEGIN:STANDARD
TZOFFSETFROM:-0400
TZOFFSETTO:-0500
TZNAME:EST
DTSTART:20251102T060000
END:STANDARD
END:VTIMEZONE
BEGIN:VEVENT
DTSTART;TZID=America/Toronto:20250831T110000
DTEND;TZID=America/Toronto:20250831T160000
DTSTAMP:20260420T040834
CREATED:20250825T185723Z
LAST-MODIFIED:20250825T185723Z
UID:51355-1756638000-1756656000@burlingtondowntown.ca
SUMMARY:Cinderellabration!
DESCRIPTION:Join us at the Princess Cottage with our special guest Cinderella as we celebrate the end of summer! (No ticket or reservation is required for this event) \nVillage Square\, 415 Elizabeth St.
URL:https://burlingtondowntown.ca/event/cinderellabration/
LOCATION:The Princess Cottage\, Village Square
ATTACH;FMTTYPE=image/jpeg:https://burlingtondowntown.ca/wp-content/uploads/2025/08/cinderella.jpg
END:VEVENT
END:VCALENDAR