BEGIN:VCALENDAR
VERSION:2.0
PRODID:-//Burlington Downtown - ECPv6.8.0//NONSGML v1.0//EN
CALSCALE:GREGORIAN
METHOD:PUBLISH
X-ORIGINAL-URL:https://burlingtondowntown.ca
X-WR-CALDESC:Events for Burlington Downtown
REFRESH-INTERVAL;VALUE=DURATION:PT1H
X-Robots-Tag:noindex
X-PUBLISHED-TTL:PT1H
BEGIN:VTIMEZONE
TZID:America/Toronto
BEGIN:DAYLIGHT
TZOFFSETFROM:-0500
TZOFFSETTO:-0400
TZNAME:EDT
DTSTART:20250309T070000
END:DAYLIGHT
BEGIN:STANDARD
TZOFFSETFROM:-0400
TZOFFSETTO:-0500
TZNAME:EST
DTSTART:20251102T060000
END:STANDARD
END:VTIMEZONE
BEGIN:VEVENT
DTSTART;TZID=America/Toronto:20250808T180000
DTEND;TZID=America/Toronto:20250808T200000
DTSTAMP:20260421T063844
CREATED:20250711T173239Z
LAST-MODIFIED:20250711T173239Z
UID:49749-1754676000-1754683200@burlingtondowntown.ca
SUMMARY:Jazz on the Plaza @BPAC
DESCRIPTION:Jazz on the Plaza is an annual free concert series that showcases the work of emerging and established Canadian musicians in an al fresco setting. This August\, come out to BPAC’s outdoor plaza\, on the corner of Elgin and Locust Streets\, to enjoy the lovely combination of summer weather and beautiful music by some of Canada’s finest artists. With performances of traditional jazz\, Haitian soul and funk\, Michael Bublé tributes\, and more\, Jazz on the Plaza offers professional-grade music for everyone and anyone. \nBPAC has been pleased to present this beloved concert series to the community for free for the past ten years! We hope to see you there! \nFri\, Aug 8\, 6pm – 8pm \n6pm – Jay Davis\nJay Davis presents Feeling Bublé\, a tribute that captures the feel of a Michael Bublé concert. Jay Davis nails the sound and moves of the King of Swing while creating a warm and light-hearted atmosphere that leaves audiences swooning and swinging all night long. \nFeeling Bublé is backed by a world-class jazz band that brings the lush arrangements to life. \n7:15pm – Amanda Martinez\nDescribed by World Music Central as “one of the great new voices in Spanish language Latin music\,” Amanda Martinez has been embraced by audiences all over the world with five highly acclaimed albums to her credit: Sola\, Amor\, Mañana\, Libre and most recently Recuerdo. \nPRESENTING SPONSOR – Carrie Hughes\, Financial Advisor / Edward Jones\nSponsors – SB Partners\, Heritage Place Retirement Residence\nCommunity Partner – Burlington Downtown Business Association \nWeekend Event Listing and Details – www.burlingtonpac.ca
URL:https://burlingtondowntown.ca/event/jazz-on-the-plaza-bpac-3/
LOCATION:Burlington Performing Arts Centre\, 440 Locust Street\, Burlington\, Ontario\, Canada
ATTACH;FMTTYPE=image/jpeg:https://burlingtondowntown.ca/wp-content/uploads/2025/07/jotp-800x500-1.jpg
ORGANIZER;CN="The Burlington Performing Arts Centre":MAILTO:bpacboxoffice@burlington.ca
GEO:43.3241195;-79.7986751
X-APPLE-STRUCTURED-LOCATION;VALUE=URI;X-ADDRESS=Burlington Performing Arts Centre 440 Locust Street Burlington Ontario Canada;X-APPLE-RADIUS=500;X-TITLE=440 Locust Street:geo:-79.7986751,43.3241195
END:VEVENT
BEGIN:VEVENT
DTSTART;TZID=America/Toronto:20250531T190000
DTEND;TZID=America/Toronto:20250531T213000
DTSTAMP:20260421T063844
CREATED:20250403T003939Z
LAST-MODIFIED:20250403T003939Z
UID:47817-1748718000-1748727000@burlingtondowntown.ca
SUMMARY:You Have Voice-Male!
DESCRIPTION:A unique choral experience presented by the Associated Male Choruses of Ontario. Six participating male choirs\, totalling 120+ voices\, perform a compelling variety of massed numbers\, as well as solo performances for each chorus. All intended to give you an evening of breathtaking music.
URL:https://burlingtondowntown.ca/event/you-have-voice-male-2/
LOCATION:Burlington Performing Arts Centre\, 440 Locust Street\, Burlington\, Ontario\, Canada
ATTACH;FMTTYPE=image/jpeg:https://burlingtondowntown.ca/wp-content/uploads/2025/03/OS-25-Poster-Portrait.jpeg
ORGANIZER;CN="The Burlington Performing Arts Centre":MAILTO:bpacboxoffice@burlington.ca
GEO:43.3241195;-79.7986751
X-APPLE-STRUCTURED-LOCATION;VALUE=URI;X-ADDRESS=Burlington Performing Arts Centre 440 Locust Street Burlington Ontario Canada;X-APPLE-RADIUS=500;X-TITLE=440 Locust Street:geo:-79.7986751,43.3241195
END:VEVENT
BEGIN:VEVENT
DTSTART;TZID=America/Toronto:20250531T190000
DTEND;TZID=America/Toronto:20250531T213000
DTSTAMP:20260421T063844
CREATED:20250314T161008Z
LAST-MODIFIED:20250314T161008Z
UID:47660-1748718000-1748727000@burlingtondowntown.ca
SUMMARY:You Have Voice-Male!
DESCRIPTION:The Associated Male Choruses of Ontario (AMCO) present six male choirs in concert\, each featuring their own solo numbers. Hear the stirring sound of up to 120 male voices raised in song as they jointly perform a compelling variety of massed numbers\, to give you an evening of memorable music. \nTickets at https://burlingtonpac.ca/events/you-have-voice-male/
URL:https://burlingtondowntown.ca/event/you-have-voice-male/
LOCATION:Burlington Performing Arts Centre\, 440 Locust Street\, Burlington\, Ontario\, Canada
ATTACH;FMTTYPE=image/jpeg:https://burlingtondowntown.ca/wp-content/uploads/2025/03/OS-25-Poster--scaled.jpeg
ORGANIZER;CN="The Burlington Performing Arts Centre":MAILTO:bpacboxoffice@burlington.ca
GEO:43.3241195;-79.7986751
X-APPLE-STRUCTURED-LOCATION;VALUE=URI;X-ADDRESS=Burlington Performing Arts Centre 440 Locust Street Burlington Ontario Canada;X-APPLE-RADIUS=500;X-TITLE=440 Locust Street:geo:-79.7986751,43.3241195
END:VEVENT
END:VCALENDAR