BEGIN:VCALENDAR
VERSION:2.0
PRODID:-//Burlington Downtown - ECPv6.8.0//NONSGML v1.0//EN
CALSCALE:GREGORIAN
METHOD:PUBLISH
X-WR-CALNAME:Burlington Downtown
X-ORIGINAL-URL:https://burlingtondowntown.ca
X-WR-CALDESC:Events for Burlington Downtown
REFRESH-INTERVAL;VALUE=DURATION:PT1H
X-Robots-Tag:noindex
X-PUBLISHED-TTL:PT1H
BEGIN:VTIMEZONE
TZID:America/Toronto
BEGIN:DAYLIGHT
TZOFFSETFROM:-0500
TZOFFSETTO:-0400
TZNAME:EDT
DTSTART:20250309T070000
END:DAYLIGHT
BEGIN:STANDARD
TZOFFSETFROM:-0400
TZOFFSETTO:-0500
TZNAME:EST
DTSTART:20251102T060000
END:STANDARD
END:VTIMEZONE
BEGIN:VEVENT
DTSTART;TZID=America/Toronto:20250816T100000
DTEND;TZID=America/Toronto:20250816T160000
DTSTAMP:20260422T034246
CREATED:20250813T135900Z
LAST-MODIFIED:20250813T135900Z
UID:50870-1755338400-1755360000@burlingtondowntown.ca
SUMMARY:🌞 No Label Event – SUMMER CLEARANCE! 🌞
DESCRIPTION:🌞 No Label Event – SUMMER CLEARANCE! 🌞\n2-for-3 Deal! Buy any two items and get the third (least expensive) item FREE! \nThe recent tropical weather reminded us just how unpredictable Canadian summers can be—so we’re inviting you to our two-weekend only No Label Summer Clearance Event! From sun to storms\, we’ve got something for every kind of weather. \n🧥 Tops\, bottoms\, dresses\, jackets\, coats\, and accessories — come discover one-of-a-kind samples at incredible prices. Without brand labels\, you save BIG! \n📍 Location: 390 Pearl Street – Look for the mannequin by the door!\n📅 Dates & Times: \nSaturday\, August 16 | 10 AM – 4 PM \nSunday\, August 17 | 10 AM – 3 PM \nSaturday\, August 23 | 10 AM – 4 PM \nSunday\, August 24 | 10 AM – 3 PM \n💳 Payment: Cashless — we accept debit and all major credit cards.\n🚨 Final Sale: No refunds\, returns\, exchanges\, or alterations. All items sold as-is. While quantities last. \n💲 Prices: $10 – $350 + tax\n📏 Sizes: XS to Plus\, Men’s & Women’s — something for everyone! \nThese unique garments come without brand labels\, allowing us to offer exceptional pricing. While quantities last! Some exceptions may apply. \n⏰ Get here early—once it’s gone\, it’s gone!
URL:https://burlingtondowntown.ca/event/%f0%9f%8c%9e-no-label-event-summer-clearance-%f0%9f%8c%9e/2025-08-16/
LOCATION:390 Pearl Street
ATTACH;FMTTYPE=image/png:https://burlingtondowntown.ca/wp-content/uploads/2025/08/JUST-GREAT-CLEARANCE-bottoms-DRESSES.png
END:VEVENT
BEGIN:VEVENT
DTSTART;TZID=America/Toronto:20250503T100000
DTEND;TZID=America/Toronto:20250503T160000
DTSTAMP:20260422T034246
CREATED:20250430T184715Z
LAST-MODIFIED:20250430T184715Z
UID:48493-1746266400-1746288000@burlingtondowntown.ca
SUMMARY:No Labels\, Just Great Gifts for Mother’s Day !
DESCRIPTION:Join us this Saturday\, May 3rd from 10AM–4PM — a full week ahead of Mother’s Day\, giving you plenty of time to find the perfect\, thoughtful gift. \nBeautiful new tops\, bottoms\, and accessories to get you ready for the spring/summer season — easy\, stylish pieces to refresh your wardrobe. \nLocation:\n390 Pearl Street\nFind the mannequin by the door. \nDate & Time:\nSaturday\, May 3rd\n10:00 AM – 4:00 PM\nOne day only — don’t miss out! \nPayment Information:\nThis is a cashless event.\nDebit and major credit cards only. \nPlease Note: \nNo refunds\, no returns\, no exchanges\, no alterations \nAll items are sold as is — all sales final — While quantities last \nPrice Range:\nItems priced from $10 to $150 \nSizes Available:\nLimited quantities in sizes XS to Plus Size\nMen’s & Women’s — something for everyone \nThese unique garments come without brand labels\, reflecting their exceptional pricing. Some exceptions may apply to select pieces. Visit early to secure your favorite looks.
URL:https://burlingtondowntown.ca/event/no-labels-just-great-gifts-for-mothers-day/
ATTACH;FMTTYPE=image/png:https://burlingtondowntown.ca/wp-content/uploads/2025/04/NO-LABEL-EVENT-JUST-GREAT-MOTHERS-DAY-GIFTS.png
END:VEVENT
END:VCALENDAR