BEGIN:VCALENDAR
VERSION:2.0
PRODID:-//Burlington Downtown - ECPv6.8.0//NONSGML v1.0//EN
CALSCALE:GREGORIAN
METHOD:PUBLISH
X-WR-CALNAME:Burlington Downtown
X-ORIGINAL-URL:https://burlingtondowntown.ca
X-WR-CALDESC:Events for Burlington Downtown
REFRESH-INTERVAL;VALUE=DURATION:PT1H
X-Robots-Tag:noindex
X-PUBLISHED-TTL:PT1H
BEGIN:VTIMEZONE
TZID:America/Toronto
BEGIN:DAYLIGHT
TZOFFSETFROM:-0500
TZOFFSETTO:-0400
TZNAME:EDT
DTSTART:20250309T070000
END:DAYLIGHT
BEGIN:STANDARD
TZOFFSETFROM:-0400
TZOFFSETTO:-0500
TZNAME:EST
DTSTART:20251102T060000
END:STANDARD
END:VTIMEZONE
BEGIN:VEVENT
DTSTART;TZID=America/Toronto:20250413T100000
DTEND;TZID=America/Toronto:20250413T160000
DTSTAMP:20260421T231031
CREATED:20250228T175658Z
LAST-MODIFIED:20250228T175658Z
UID:47486-1744538400-1744560000@burlingtondowntown.ca
SUMMARY:Visit with the Easter Bunny
DESCRIPTION:Hippity hop on down to Joseph Brant Museum for a Visit with the Easter Bunny! Families can book a 5-minute private visit with the Easter Bunny and have their photo taken by Henry’s Camera (6 family members maximum). Henry’s will be providing each family with one digital image and a “Free Instant 8×10 Print” voucher for use at an in-store kiosk. Parents are also welcome to use their own cameras. Children will have the opportunity to take part in an Easter egg scavenger hunt throughout the galleries and complete a Spring-themed craft. There will also be a mini-Makers market on site\, and some hot chocolate to enjoy! \nTickets are $50/family ($45/members) and include a pre-booked visit and photos with the Easter Bunny\, admission to Joseph Brant Museum\, an Easter egg scavenger hunt throughout the galleries\, hot chocolate\, a craft for each child registered\, and access to a mini-Makers Market. Please note that it takes approximately 1 week for the professional images taken by Henry’s to be edited and sent to your inbox.
URL:https://burlingtondowntown.ca/event/visit-with-the-easter-bunny-4/2025-04-13/
LOCATION:Joseph Brant Museum
ATTACH;FMTTYPE=image/jpeg:https://burlingtondowntown.ca/wp-content/uploads/2025/02/easter-bunny-insta4.jpg
END:VEVENT
BEGIN:VEVENT
DTSTART;TZID=America/Toronto:20250412T100000
DTEND;TZID=America/Toronto:20250412T160000
DTSTAMP:20260421T231031
CREATED:20250228T175658Z
LAST-MODIFIED:20250228T175658Z
UID:47483-1744452000-1744473600@burlingtondowntown.ca
SUMMARY:Visit with the Easter Bunny
DESCRIPTION:Hippity hop on down to Joseph Brant Museum for a Visit with the Easter Bunny! Families can book a 5-minute private visit with the Easter Bunny and have their photo taken by Henry’s Camera (6 family members maximum). Henry’s will be providing each family with one digital image and a “Free Instant 8×10 Print” voucher for use at an in-store kiosk. Parents are also welcome to use their own cameras. Children will have the opportunity to take part in an Easter egg scavenger hunt throughout the galleries and complete a Spring-themed craft. There will also be a mini-Makers market on site\, and some hot chocolate to enjoy! \nTickets are $50/family ($45/members) and include a pre-booked visit and photos with the Easter Bunny\, admission to Joseph Brant Museum\, an Easter egg scavenger hunt throughout the galleries\, hot chocolate\, a craft for each child registered\, and access to a mini-Makers Market. Please note that it takes approximately 1 week for the professional images taken by Henry’s to be edited and sent to your inbox.
URL:https://burlingtondowntown.ca/event/visit-with-the-easter-bunny-4/2025-04-12/
LOCATION:Joseph Brant Museum
ATTACH;FMTTYPE=image/jpeg:https://burlingtondowntown.ca/wp-content/uploads/2025/02/easter-bunny-insta4.jpg
END:VEVENT
END:VCALENDAR