BEGIN:VCALENDAR
VERSION:2.0
PRODID:-//Burlington Downtown - ECPv6.8.0//NONSGML v1.0//EN
CALSCALE:GREGORIAN
METHOD:PUBLISH
X-WR-CALNAME:Burlington Downtown
X-ORIGINAL-URL:https://burlingtondowntown.ca
X-WR-CALDESC:Events for Burlington Downtown
REFRESH-INTERVAL;VALUE=DURATION:PT1H
X-Robots-Tag:noindex
X-PUBLISHED-TTL:PT1H
BEGIN:VTIMEZONE
TZID:America/Toronto
BEGIN:DAYLIGHT
TZOFFSETFROM:-0500
TZOFFSETTO:-0400
TZNAME:EDT
DTSTART:20240310T070000
END:DAYLIGHT
BEGIN:STANDARD
TZOFFSETFROM:-0400
TZOFFSETTO:-0500
TZNAME:EST
DTSTART:20241103T060000
END:STANDARD
END:VTIMEZONE
BEGIN:VEVENT
DTSTART;TZID=America/Toronto:20241117T100000
DTEND;TZID=America/Toronto:20241117T160000
DTSTAMP:20260424T040646
CREATED:20241024T205138Z
LAST-MODIFIED:20241024T205138Z
UID:45314-1731837600-1731859200@burlingtondowntown.ca
SUMMARY:Visit with Santa
DESCRIPTION:It’s the most wonderful time of the year at Joseph Brant Museum! Families can book their Visit with Santa on November 16 & 17 (6 family members maximum). Henry’s Camera will be taking professional photos\, and providing one digital image and a “Free Instant 8×10 Print” voucher for use at an in-store kiosk. Parents are also welcome to use their own cameras. \nTicket includes a 10-minute timeslot to visit Santa\, family admission to Joseph Brant Museum\, a take-home holiday craft\, and a bag of Christmas popcorn for each child. The cost is $50/family\, $45 for Museum members.
URL:https://burlingtondowntown.ca/event/visit-with-santa/2024-11-17/
LOCATION:Joseph Brant Museum
ATTACH;FMTTYPE=image/jpeg:https://burlingtondowntown.ca/wp-content/uploads/2024/10/santa-visits-insta2.jpg
END:VEVENT
BEGIN:VEVENT
DTSTART;TZID=America/Toronto:20241116T100000
DTEND;TZID=America/Toronto:20241116T160000
DTSTAMP:20260424T040646
CREATED:20241024T205138Z
LAST-MODIFIED:20241024T205138Z
UID:45311-1731751200-1731772800@burlingtondowntown.ca
SUMMARY:Visit with Santa
DESCRIPTION:It’s the most wonderful time of the year at Joseph Brant Museum! Families can book their Visit with Santa on November 16 & 17 (6 family members maximum). Henry’s Camera will be taking professional photos\, and providing one digital image and a “Free Instant 8×10 Print” voucher for use at an in-store kiosk. Parents are also welcome to use their own cameras. \nTicket includes a 10-minute timeslot to visit Santa\, family admission to Joseph Brant Museum\, a take-home holiday craft\, and a bag of Christmas popcorn for each child. The cost is $50/family\, $45 for Museum members.
URL:https://burlingtondowntown.ca/event/visit-with-santa/2024-11-16/
LOCATION:Joseph Brant Museum
ATTACH;FMTTYPE=image/jpeg:https://burlingtondowntown.ca/wp-content/uploads/2024/10/santa-visits-insta2.jpg
END:VEVENT
END:VCALENDAR