BEGIN:VCALENDAR
VERSION:2.0
PRODID:-//Burlington Downtown - ECPv6.8.0//NONSGML v1.0//EN
CALSCALE:GREGORIAN
METHOD:PUBLISH
X-WR-CALNAME:Burlington Downtown
X-ORIGINAL-URL:https://burlingtondowntown.ca
X-WR-CALDESC:Events for Burlington Downtown
REFRESH-INTERVAL;VALUE=DURATION:PT1H
X-Robots-Tag:noindex
X-PUBLISHED-TTL:PT1H
BEGIN:VTIMEZONE
TZID:America/Toronto
BEGIN:DAYLIGHT
TZOFFSETFROM:-0500
TZOFFSETTO:-0400
TZNAME:EDT
DTSTART:20250309T070000
END:DAYLIGHT
BEGIN:STANDARD
TZOFFSETFROM:-0400
TZOFFSETTO:-0500
TZNAME:EST
DTSTART:20251102T060000
END:STANDARD
END:VTIMEZONE
BEGIN:VEVENT
DTSTART;TZID=America/Toronto:20250207T100000
DTEND;TZID=America/Toronto:20250207T180000
DTSTAMP:20260421T202006
CREATED:20250130T175644Z
LAST-MODIFIED:20250130T175644Z
UID:47018-1738922400-1738951200@burlingtondowntown.ca
SUMMARY:No Label Event
DESCRIPTION:390 Pearl Street Find the door with the big red bow! \n  \nNo Label Event – No Labels—Just Great Clothes!\nDATES: THURS – February 6th\, 7th FRIDAY- Time: 10:00AM – 6:00 PM (both days)\nSAT – February 8th 10-2pm ONLY– LAST CHANCE.\nThese unique garments come without brand labels\, reflecting their exceptional pricing. Quantities are limited\, so visit early to secure your favorite pieces!\nCome discover some Valentine’s Day gifts\, costume jewelry\, one-of-a-kind samples\, varied sizes from XS to Plus Size\, cozy loungewear\, accessories\, outerwear\, select vintage items and more! there’s something for everyone! While quantities last! Limited quantity!\nPrices range from $10–$175 plus tax\nWhile quantities last! Some exceptions may apply to select pieces.\nLocation: 390 Pearl Street – door with the red big red bow! Payment Information: We accept cash\, debit\, and major credit cards. No refunds\, no returns\, no exchanges\, no alterations\, all items SOLD AS IS—All sales final. \n 
URL:https://burlingtondowntown.ca/event/no-label-event/2025-02-07/
ATTACH;FMTTYPE=image/png:https://burlingtondowntown.ca/wp-content/uploads/2025/01/No-Label-Event-Feb-6-7-8.png
END:VEVENT
BEGIN:VEVENT
DTSTART;TZID=America/Toronto:20250206T100000
DTEND;TZID=America/Toronto:20250206T180000
DTSTAMP:20260421T202006
CREATED:20250130T175644Z
LAST-MODIFIED:20250130T175644Z
UID:47016-1738836000-1738864800@burlingtondowntown.ca
SUMMARY:No Label Event
DESCRIPTION:390 Pearl Street Find the door with the big red bow! \n  \nNo Label Event – No Labels—Just Great Clothes!\nDATES: THURS – February 6th\, 7th FRIDAY- Time: 10:00AM – 6:00 PM (both days)\nSAT – February 8th 10-2pm ONLY– LAST CHANCE.\nThese unique garments come without brand labels\, reflecting their exceptional pricing. Quantities are limited\, so visit early to secure your favorite pieces!\nCome discover some Valentine’s Day gifts\, costume jewelry\, one-of-a-kind samples\, varied sizes from XS to Plus Size\, cozy loungewear\, accessories\, outerwear\, select vintage items and more! there’s something for everyone! While quantities last! Limited quantity!\nPrices range from $10–$175 plus tax\nWhile quantities last! Some exceptions may apply to select pieces.\nLocation: 390 Pearl Street – door with the red big red bow! Payment Information: We accept cash\, debit\, and major credit cards. No refunds\, no returns\, no exchanges\, no alterations\, all items SOLD AS IS—All sales final. \n 
URL:https://burlingtondowntown.ca/event/no-label-event/2025-02-06/
ATTACH;FMTTYPE=image/png:https://burlingtondowntown.ca/wp-content/uploads/2025/01/No-Label-Event-Feb-6-7-8.png
END:VEVENT
END:VCALENDAR