BEGIN:VCALENDAR
VERSION:2.0
PRODID:-//Burlington Downtown - ECPv6.8.0//NONSGML v1.0//EN
CALSCALE:GREGORIAN
METHOD:PUBLISH
X-WR-CALNAME:Burlington Downtown
X-ORIGINAL-URL:https://burlingtondowntown.ca
X-WR-CALDESC:Events for Burlington Downtown
REFRESH-INTERVAL;VALUE=DURATION:PT1H
X-Robots-Tag:noindex
X-PUBLISHED-TTL:PT1H
BEGIN:VTIMEZONE
TZID:America/Toronto
BEGIN:DAYLIGHT
TZOFFSETFROM:-0500
TZOFFSETTO:-0400
TZNAME:EDT
DTSTART:20240310T070000
END:DAYLIGHT
BEGIN:STANDARD
TZOFFSETFROM:-0400
TZOFFSETTO:-0500
TZNAME:EST
DTSTART:20241103T060000
END:STANDARD
END:VTIMEZONE
BEGIN:VEVENT
DTSTART;TZID=America/Toronto:20240829T103000
DTEND;TZID=America/Toronto:20240829T120000
DTSTAMP:20260421T193740
CREATED:20240628T210232Z
LAST-MODIFIED:20240628T210232Z
UID:35666-1724927400-1724932800@burlingtondowntown.ca
SUMMARY:FREE Downtown Waterfront Walking Tours
DESCRIPTION:Are you new to Burlington? Visiting our beautiful city?\nJoin us in this easy walking tour of Downtown Burlington including the waterfront. We will be doing a loop of the downtown area including the waterfront and some of the hot spots of Downtown Burlington. Featuring Spencer Smith park\, our waterfront and downtown core route to check out some of the classic hot spots of the city. Sponsored by Burlington Tourism. Pre Registration and waiver required. \nLength – Appx. 1.5 – 2 hours Group Size: 2-15
URL:https://burlingtondowntown.ca/event/free-downtown-waterfront-walking-tours/2024-08-29/
LOCATION:Brant Street\, Downtown Burlington\, Ontario\, Canada
ATTACH;FMTTYPE=image/jpeg:https://burlingtondowntown.ca/wp-content/uploads/2024/06/PSX_20240627_214400-1.jpg
GEO:51.253775;-85.3232139
END:VEVENT
BEGIN:VEVENT
DTSTART;TZID=America/Toronto:20240822T103000
DTEND;TZID=America/Toronto:20240822T120000
DTSTAMP:20260421T193740
CREATED:20240628T210231Z
LAST-MODIFIED:20240628T210231Z
UID:35665-1724322600-1724328000@burlingtondowntown.ca
SUMMARY:FREE Downtown Waterfront Walking Tours
DESCRIPTION:Are you new to Burlington? Visiting our beautiful city?\nJoin us in this easy walking tour of Downtown Burlington including the waterfront. We will be doing a loop of the downtown area including the waterfront and some of the hot spots of Downtown Burlington. Featuring Spencer Smith park\, our waterfront and downtown core route to check out some of the classic hot spots of the city. Sponsored by Burlington Tourism. Pre Registration and waiver required. \nLength – Appx. 1.5 – 2 hours Group Size: 2-15
URL:https://burlingtondowntown.ca/event/free-downtown-waterfront-walking-tours/2024-08-22/
LOCATION:Brant Street\, Downtown Burlington\, Ontario\, Canada
ATTACH;FMTTYPE=image/jpeg:https://burlingtondowntown.ca/wp-content/uploads/2024/06/PSX_20240627_214400-1.jpg
GEO:51.253775;-85.3232139
END:VEVENT
BEGIN:VEVENT
DTSTART;TZID=America/Toronto:20240815T103000
DTEND;TZID=America/Toronto:20240815T120000
DTSTAMP:20260421T193740
CREATED:20240628T210231Z
LAST-MODIFIED:20240628T210231Z
UID:35664-1723717800-1723723200@burlingtondowntown.ca
SUMMARY:FREE Downtown Waterfront Walking Tours
DESCRIPTION:Are you new to Burlington? Visiting our beautiful city?\nJoin us in this easy walking tour of Downtown Burlington including the waterfront. We will be doing a loop of the downtown area including the waterfront and some of the hot spots of Downtown Burlington. Featuring Spencer Smith park\, our waterfront and downtown core route to check out some of the classic hot spots of the city. Sponsored by Burlington Tourism. Pre Registration and waiver required. \nLength – Appx. 1.5 – 2 hours Group Size: 2-15
URL:https://burlingtondowntown.ca/event/free-downtown-waterfront-walking-tours/2024-08-15/
LOCATION:Brant Street\, Downtown Burlington\, Ontario\, Canada
ATTACH;FMTTYPE=image/jpeg:https://burlingtondowntown.ca/wp-content/uploads/2024/06/PSX_20240627_214400-1.jpg
GEO:51.253775;-85.3232139
END:VEVENT
BEGIN:VEVENT
DTSTART;TZID=America/Toronto:20240808T103000
DTEND;TZID=America/Toronto:20240808T120000
DTSTAMP:20260421T193740
CREATED:20240628T210231Z
LAST-MODIFIED:20240628T210231Z
UID:35663-1723113000-1723118400@burlingtondowntown.ca
SUMMARY:FREE Downtown Waterfront Walking Tours
DESCRIPTION:Are you new to Burlington? Visiting our beautiful city?\nJoin us in this easy walking tour of Downtown Burlington including the waterfront. We will be doing a loop of the downtown area including the waterfront and some of the hot spots of Downtown Burlington. Featuring Spencer Smith park\, our waterfront and downtown core route to check out some of the classic hot spots of the city. Sponsored by Burlington Tourism. Pre Registration and waiver required. \nLength – Appx. 1.5 – 2 hours Group Size: 2-15
URL:https://burlingtondowntown.ca/event/free-downtown-waterfront-walking-tours/2024-08-08/
LOCATION:Brant Street\, Downtown Burlington\, Ontario\, Canada
ATTACH;FMTTYPE=image/jpeg:https://burlingtondowntown.ca/wp-content/uploads/2024/06/PSX_20240627_214400-1.jpg
GEO:51.253775;-85.3232139
END:VEVENT
BEGIN:VEVENT
DTSTART;TZID=America/Toronto:20240801T103000
DTEND;TZID=America/Toronto:20240801T120000
DTSTAMP:20260421T193740
CREATED:20240628T210231Z
LAST-MODIFIED:20240628T210231Z
UID:35662-1722508200-1722513600@burlingtondowntown.ca
SUMMARY:FREE Downtown Waterfront Walking Tours
DESCRIPTION:Are you new to Burlington? Visiting our beautiful city?\nJoin us in this easy walking tour of Downtown Burlington including the waterfront. We will be doing a loop of the downtown area including the waterfront and some of the hot spots of Downtown Burlington. Featuring Spencer Smith park\, our waterfront and downtown core route to check out some of the classic hot spots of the city. Sponsored by Burlington Tourism. Pre Registration and waiver required. \nLength – Appx. 1.5 – 2 hours Group Size: 2-15
URL:https://burlingtondowntown.ca/event/free-downtown-waterfront-walking-tours/2024-08-01/
LOCATION:Brant Street\, Downtown Burlington\, Ontario\, Canada
ATTACH;FMTTYPE=image/jpeg:https://burlingtondowntown.ca/wp-content/uploads/2024/06/PSX_20240627_214400-1.jpg
GEO:51.253775;-85.3232139
END:VEVENT
BEGIN:VEVENT
DTSTART;TZID=America/Toronto:20240725T103000
DTEND;TZID=America/Toronto:20240725T120000
DTSTAMP:20260421T193740
CREATED:20240628T210231Z
LAST-MODIFIED:20240628T210231Z
UID:35661-1721903400-1721908800@burlingtondowntown.ca
SUMMARY:FREE Downtown Waterfront Walking Tours
DESCRIPTION:Are you new to Burlington? Visiting our beautiful city?\nJoin us in this easy walking tour of Downtown Burlington including the waterfront. We will be doing a loop of the downtown area including the waterfront and some of the hot spots of Downtown Burlington. Featuring Spencer Smith park\, our waterfront and downtown core route to check out some of the classic hot spots of the city. Sponsored by Burlington Tourism. Pre Registration and waiver required. \nLength – Appx. 1.5 – 2 hours Group Size: 2-15
URL:https://burlingtondowntown.ca/event/free-downtown-waterfront-walking-tours/2024-07-25/
LOCATION:Brant Street\, Downtown Burlington\, Ontario\, Canada
ATTACH;FMTTYPE=image/jpeg:https://burlingtondowntown.ca/wp-content/uploads/2024/06/PSX_20240627_214400-1.jpg
GEO:51.253775;-85.3232139
END:VEVENT
BEGIN:VEVENT
DTSTART;TZID=America/Toronto:20240718T103000
DTEND;TZID=America/Toronto:20240718T120000
DTSTAMP:20260421T193740
CREATED:20240628T210231Z
LAST-MODIFIED:20240628T210231Z
UID:35660-1721298600-1721304000@burlingtondowntown.ca
SUMMARY:FREE Downtown Waterfront Walking Tours
DESCRIPTION:Are you new to Burlington? Visiting our beautiful city?\nJoin us in this easy walking tour of Downtown Burlington including the waterfront. We will be doing a loop of the downtown area including the waterfront and some of the hot spots of Downtown Burlington. Featuring Spencer Smith park\, our waterfront and downtown core route to check out some of the classic hot spots of the city. Sponsored by Burlington Tourism. Pre Registration and waiver required. \nLength – Appx. 1.5 – 2 hours Group Size: 2-15
URL:https://burlingtondowntown.ca/event/free-downtown-waterfront-walking-tours/2024-07-18/
LOCATION:Brant Street\, Downtown Burlington\, Ontario\, Canada
ATTACH;FMTTYPE=image/jpeg:https://burlingtondowntown.ca/wp-content/uploads/2024/06/PSX_20240627_214400-1.jpg
GEO:51.253775;-85.3232139
END:VEVENT
BEGIN:VEVENT
DTSTART;TZID=America/Toronto:20240711T103000
DTEND;TZID=America/Toronto:20240711T120000
DTSTAMP:20260421T193740
CREATED:20240628T210231Z
LAST-MODIFIED:20240628T210231Z
UID:35659-1720693800-1720699200@burlingtondowntown.ca
SUMMARY:FREE Downtown Waterfront Walking Tours
DESCRIPTION:Are you new to Burlington? Visiting our beautiful city?\nJoin us in this easy walking tour of Downtown Burlington including the waterfront. We will be doing a loop of the downtown area including the waterfront and some of the hot spots of Downtown Burlington. Featuring Spencer Smith park\, our waterfront and downtown core route to check out some of the classic hot spots of the city. Sponsored by Burlington Tourism. Pre Registration and waiver required. \nLength – Appx. 1.5 – 2 hours Group Size: 2-15
URL:https://burlingtondowntown.ca/event/free-downtown-waterfront-walking-tours/2024-07-11/
LOCATION:Brant Street\, Downtown Burlington\, Ontario\, Canada
ATTACH;FMTTYPE=image/jpeg:https://burlingtondowntown.ca/wp-content/uploads/2024/06/PSX_20240627_214400-1.jpg
GEO:51.253775;-85.3232139
END:VEVENT
BEGIN:VEVENT
DTSTART;TZID=America/Toronto:20240704T103000
DTEND;TZID=America/Toronto:20240704T120000
DTSTAMP:20260421T193740
CREATED:20240628T210231Z
LAST-MODIFIED:20240628T210231Z
UID:35657-1720089000-1720094400@burlingtondowntown.ca
SUMMARY:FREE Downtown Waterfront Walking Tours
DESCRIPTION:Are you new to Burlington? Visiting our beautiful city?\nJoin us in this easy walking tour of Downtown Burlington including the waterfront. We will be doing a loop of the downtown area including the waterfront and some of the hot spots of Downtown Burlington. Featuring Spencer Smith park\, our waterfront and downtown core route to check out some of the classic hot spots of the city. Sponsored by Burlington Tourism. Pre Registration and waiver required. \nLength – Appx. 1.5 – 2 hours Group Size: 2-15
URL:https://burlingtondowntown.ca/event/free-downtown-waterfront-walking-tours/2024-07-04/
LOCATION:Brant Street\, Downtown Burlington\, Ontario\, Canada
ATTACH;FMTTYPE=image/jpeg:https://burlingtondowntown.ca/wp-content/uploads/2024/06/PSX_20240627_214400-1.jpg
GEO:51.253775;-85.3232139
END:VEVENT
END:VCALENDAR