BEGIN:VCALENDAR
VERSION:2.0
PRODID:-//Burlington Downtown - ECPv6.8.0//NONSGML v1.0//EN
CALSCALE:GREGORIAN
METHOD:PUBLISH
X-WR-CALNAME:Burlington Downtown
X-ORIGINAL-URL:https://burlingtondowntown.ca
X-WR-CALDESC:Events for Burlington Downtown
REFRESH-INTERVAL;VALUE=DURATION:PT1H
X-Robots-Tag:noindex
X-PUBLISHED-TTL:PT1H
BEGIN:VTIMEZONE
TZID:America/Toronto
BEGIN:DAYLIGHT
TZOFFSETFROM:-0500
TZOFFSETTO:-0400
TZNAME:EDT
DTSTART:20240310T070000
END:DAYLIGHT
BEGIN:STANDARD
TZOFFSETFROM:-0400
TZOFFSETTO:-0500
TZNAME:EST
DTSTART:20241103T060000
END:STANDARD
END:VTIMEZONE
BEGIN:VEVENT
DTSTART;TZID=America/Toronto:20240928T133000
DTEND;TZID=America/Toronto:20240928T150000
DTSTAMP:20260421T211845
CREATED:20240628T210105Z
LAST-MODIFIED:20240628T210105Z
UID:35700-1727530200-1727535600@burlingtondowntown.ca
SUMMARY:FREE Downtown Burlington Waterfront Walking Tours
DESCRIPTION:Are you new to Burlington? Visiting our beautiful city?\nJoin us for a fun & easy walking tour of Downtown Burlington including the waterfront. We will be doing a loop of the downtown area including the waterfront and some of the hot spots of Downtown Burlington. Featuring Spencer Smith park\, our waterfront and downtown core route to check out some of the classic hot spots of the city. Sponsored by Tourism Burlington. Pre registration and waiver required . \nLength – Appx. 1.5 – 2 hours Group Size: 2-15
URL:https://burlingtondowntown.ca/event/free-downtown-burlington-waterfront-walking-tours/2024-09-28/
LOCATION:Brant Street\, Downtown Burlington\, Ontario\, Canada
ATTACH;FMTTYPE=image/jpeg:https://burlingtondowntown.ca/wp-content/uploads/2024/06/PSX_20240627_214400.jpg
GEO:51.253775;-85.3232139
END:VEVENT
BEGIN:VEVENT
DTSTART;TZID=America/Toronto:20240927T133000
DTEND;TZID=America/Toronto:20240927T150000
DTSTAMP:20260421T211845
CREATED:20240628T210105Z
LAST-MODIFIED:20240628T210105Z
UID:35699-1727443800-1727449200@burlingtondowntown.ca
SUMMARY:FREE Downtown Burlington Waterfront Walking Tours
DESCRIPTION:Are you new to Burlington? Visiting our beautiful city?\nJoin us for a fun & easy walking tour of Downtown Burlington including the waterfront. We will be doing a loop of the downtown area including the waterfront and some of the hot spots of Downtown Burlington. Featuring Spencer Smith park\, our waterfront and downtown core route to check out some of the classic hot spots of the city. Sponsored by Tourism Burlington. Pre registration and waiver required . \nLength – Appx. 1.5 – 2 hours Group Size: 2-15
URL:https://burlingtondowntown.ca/event/free-downtown-burlington-waterfront-walking-tours/2024-09-27/
LOCATION:Brant Street\, Downtown Burlington\, Ontario\, Canada
ATTACH;FMTTYPE=image/jpeg:https://burlingtondowntown.ca/wp-content/uploads/2024/06/PSX_20240627_214400.jpg
GEO:51.253775;-85.3232139
END:VEVENT
BEGIN:VEVENT
DTSTART;TZID=America/Toronto:20240921T133000
DTEND;TZID=America/Toronto:20240921T150000
DTSTAMP:20260421T211845
CREATED:20240628T210105Z
LAST-MODIFIED:20240628T210105Z
UID:35698-1726925400-1726930800@burlingtondowntown.ca
SUMMARY:FREE Downtown Burlington Waterfront Walking Tours
DESCRIPTION:Are you new to Burlington? Visiting our beautiful city?\nJoin us for a fun & easy walking tour of Downtown Burlington including the waterfront. We will be doing a loop of the downtown area including the waterfront and some of the hot spots of Downtown Burlington. Featuring Spencer Smith park\, our waterfront and downtown core route to check out some of the classic hot spots of the city. Sponsored by Tourism Burlington. Pre registration and waiver required . \nLength – Appx. 1.5 – 2 hours Group Size: 2-15
URL:https://burlingtondowntown.ca/event/free-downtown-burlington-waterfront-walking-tours/2024-09-21/
LOCATION:Brant Street\, Downtown Burlington\, Ontario\, Canada
ATTACH;FMTTYPE=image/jpeg:https://burlingtondowntown.ca/wp-content/uploads/2024/06/PSX_20240627_214400.jpg
GEO:51.253775;-85.3232139
END:VEVENT
BEGIN:VEVENT
DTSTART;TZID=America/Toronto:20240920T133000
DTEND;TZID=America/Toronto:20240920T150000
DTSTAMP:20260421T211845
CREATED:20240628T210105Z
LAST-MODIFIED:20240628T210105Z
UID:35697-1726839000-1726844400@burlingtondowntown.ca
SUMMARY:FREE Downtown Burlington Waterfront Walking Tours
DESCRIPTION:Are you new to Burlington? Visiting our beautiful city?\nJoin us for a fun & easy walking tour of Downtown Burlington including the waterfront. We will be doing a loop of the downtown area including the waterfront and some of the hot spots of Downtown Burlington. Featuring Spencer Smith park\, our waterfront and downtown core route to check out some of the classic hot spots of the city. Sponsored by Tourism Burlington. Pre registration and waiver required . \nLength – Appx. 1.5 – 2 hours Group Size: 2-15
URL:https://burlingtondowntown.ca/event/free-downtown-burlington-waterfront-walking-tours/2024-09-20/
LOCATION:Brant Street\, Downtown Burlington\, Ontario\, Canada
ATTACH;FMTTYPE=image/jpeg:https://burlingtondowntown.ca/wp-content/uploads/2024/06/PSX_20240627_214400.jpg
GEO:51.253775;-85.3232139
END:VEVENT
BEGIN:VEVENT
DTSTART;TZID=America/Toronto:20240914T133000
DTEND;TZID=America/Toronto:20240914T150000
DTSTAMP:20260421T211845
CREATED:20240628T210104Z
LAST-MODIFIED:20240628T210104Z
UID:35696-1726320600-1726326000@burlingtondowntown.ca
SUMMARY:FREE Downtown Burlington Waterfront Walking Tours
DESCRIPTION:Are you new to Burlington? Visiting our beautiful city?\nJoin us for a fun & easy walking tour of Downtown Burlington including the waterfront. We will be doing a loop of the downtown area including the waterfront and some of the hot spots of Downtown Burlington. Featuring Spencer Smith park\, our waterfront and downtown core route to check out some of the classic hot spots of the city. Sponsored by Tourism Burlington. Pre registration and waiver required . \nLength – Appx. 1.5 – 2 hours Group Size: 2-15
URL:https://burlingtondowntown.ca/event/free-downtown-burlington-waterfront-walking-tours/2024-09-14/
LOCATION:Brant Street\, Downtown Burlington\, Ontario\, Canada
ATTACH;FMTTYPE=image/jpeg:https://burlingtondowntown.ca/wp-content/uploads/2024/06/PSX_20240627_214400.jpg
GEO:51.253775;-85.3232139
END:VEVENT
BEGIN:VEVENT
DTSTART;TZID=America/Toronto:20240913T133000
DTEND;TZID=America/Toronto:20240913T150000
DTSTAMP:20260421T211845
CREATED:20240628T210104Z
LAST-MODIFIED:20240628T210104Z
UID:35695-1726234200-1726239600@burlingtondowntown.ca
SUMMARY:FREE Downtown Burlington Waterfront Walking Tours
DESCRIPTION:Are you new to Burlington? Visiting our beautiful city?\nJoin us for a fun & easy walking tour of Downtown Burlington including the waterfront. We will be doing a loop of the downtown area including the waterfront and some of the hot spots of Downtown Burlington. Featuring Spencer Smith park\, our waterfront and downtown core route to check out some of the classic hot spots of the city. Sponsored by Tourism Burlington. Pre registration and waiver required . \nLength – Appx. 1.5 – 2 hours Group Size: 2-15
URL:https://burlingtondowntown.ca/event/free-downtown-burlington-waterfront-walking-tours/2024-09-13/
LOCATION:Brant Street\, Downtown Burlington\, Ontario\, Canada
ATTACH;FMTTYPE=image/jpeg:https://burlingtondowntown.ca/wp-content/uploads/2024/06/PSX_20240627_214400.jpg
GEO:51.253775;-85.3232139
END:VEVENT
BEGIN:VEVENT
DTSTART;TZID=America/Toronto:20240907T133000
DTEND;TZID=America/Toronto:20240907T150000
DTSTAMP:20260421T211845
CREATED:20240628T210104Z
LAST-MODIFIED:20240628T210104Z
UID:35694-1725715800-1725721200@burlingtondowntown.ca
SUMMARY:FREE Downtown Burlington Waterfront Walking Tours
DESCRIPTION:Are you new to Burlington? Visiting our beautiful city?\nJoin us for a fun & easy walking tour of Downtown Burlington including the waterfront. We will be doing a loop of the downtown area including the waterfront and some of the hot spots of Downtown Burlington. Featuring Spencer Smith park\, our waterfront and downtown core route to check out some of the classic hot spots of the city. Sponsored by Tourism Burlington. Pre registration and waiver required . \nLength – Appx. 1.5 – 2 hours Group Size: 2-15
URL:https://burlingtondowntown.ca/event/free-downtown-burlington-waterfront-walking-tours/2024-09-07/
LOCATION:Brant Street\, Downtown Burlington\, Ontario\, Canada
ATTACH;FMTTYPE=image/jpeg:https://burlingtondowntown.ca/wp-content/uploads/2024/06/PSX_20240627_214400.jpg
GEO:51.253775;-85.3232139
END:VEVENT
BEGIN:VEVENT
DTSTART;TZID=America/Toronto:20240906T133000
DTEND;TZID=America/Toronto:20240906T150000
DTSTAMP:20260421T211845
CREATED:20240628T210103Z
LAST-MODIFIED:20240628T210103Z
UID:35693-1725629400-1725634800@burlingtondowntown.ca
SUMMARY:FREE Downtown Burlington Waterfront Walking Tours
DESCRIPTION:Are you new to Burlington? Visiting our beautiful city?\nJoin us for a fun & easy walking tour of Downtown Burlington including the waterfront. We will be doing a loop of the downtown area including the waterfront and some of the hot spots of Downtown Burlington. Featuring Spencer Smith park\, our waterfront and downtown core route to check out some of the classic hot spots of the city. Sponsored by Tourism Burlington. Pre registration and waiver required . \nLength – Appx. 1.5 – 2 hours Group Size: 2-15
URL:https://burlingtondowntown.ca/event/free-downtown-burlington-waterfront-walking-tours/2024-09-06/
LOCATION:Brant Street\, Downtown Burlington\, Ontario\, Canada
ATTACH;FMTTYPE=image/jpeg:https://burlingtondowntown.ca/wp-content/uploads/2024/06/PSX_20240627_214400.jpg
GEO:51.253775;-85.3232139
END:VEVENT
BEGIN:VEVENT
DTSTART;TZID=America/Toronto:20240831T133000
DTEND;TZID=America/Toronto:20240831T150000
DTSTAMP:20260421T211845
CREATED:20240628T210103Z
LAST-MODIFIED:20240628T210103Z
UID:35692-1725111000-1725116400@burlingtondowntown.ca
SUMMARY:FREE Downtown Burlington Waterfront Walking Tours
DESCRIPTION:Are you new to Burlington? Visiting our beautiful city?\nJoin us for a fun & easy walking tour of Downtown Burlington including the waterfront. We will be doing a loop of the downtown area including the waterfront and some of the hot spots of Downtown Burlington. Featuring Spencer Smith park\, our waterfront and downtown core route to check out some of the classic hot spots of the city. Sponsored by Tourism Burlington. Pre registration and waiver required . \nLength – Appx. 1.5 – 2 hours Group Size: 2-15
URL:https://burlingtondowntown.ca/event/free-downtown-burlington-waterfront-walking-tours/2024-08-31/
LOCATION:Brant Street\, Downtown Burlington\, Ontario\, Canada
ATTACH;FMTTYPE=image/jpeg:https://burlingtondowntown.ca/wp-content/uploads/2024/06/PSX_20240627_214400.jpg
GEO:51.253775;-85.3232139
END:VEVENT
BEGIN:VEVENT
DTSTART;TZID=America/Toronto:20240830T133000
DTEND;TZID=America/Toronto:20240830T150000
DTSTAMP:20260421T211845
CREATED:20240628T210103Z
LAST-MODIFIED:20240628T210103Z
UID:35691-1725024600-1725030000@burlingtondowntown.ca
SUMMARY:FREE Downtown Burlington Waterfront Walking Tours
DESCRIPTION:Are you new to Burlington? Visiting our beautiful city?\nJoin us for a fun & easy walking tour of Downtown Burlington including the waterfront. We will be doing a loop of the downtown area including the waterfront and some of the hot spots of Downtown Burlington. Featuring Spencer Smith park\, our waterfront and downtown core route to check out some of the classic hot spots of the city. Sponsored by Tourism Burlington. Pre registration and waiver required . \nLength – Appx. 1.5 – 2 hours Group Size: 2-15
URL:https://burlingtondowntown.ca/event/free-downtown-burlington-waterfront-walking-tours/2024-08-30/
LOCATION:Brant Street\, Downtown Burlington\, Ontario\, Canada
ATTACH;FMTTYPE=image/jpeg:https://burlingtondowntown.ca/wp-content/uploads/2024/06/PSX_20240627_214400.jpg
GEO:51.253775;-85.3232139
END:VEVENT
BEGIN:VEVENT
DTSTART;TZID=America/Toronto:20240824T133000
DTEND;TZID=America/Toronto:20240824T150000
DTSTAMP:20260421T211845
CREATED:20240628T210103Z
LAST-MODIFIED:20240628T210103Z
UID:35690-1724506200-1724511600@burlingtondowntown.ca
SUMMARY:FREE Downtown Burlington Waterfront Walking Tours
DESCRIPTION:Are you new to Burlington? Visiting our beautiful city?\nJoin us for a fun & easy walking tour of Downtown Burlington including the waterfront. We will be doing a loop of the downtown area including the waterfront and some of the hot spots of Downtown Burlington. Featuring Spencer Smith park\, our waterfront and downtown core route to check out some of the classic hot spots of the city. Sponsored by Tourism Burlington. Pre registration and waiver required . \nLength – Appx. 1.5 – 2 hours Group Size: 2-15
URL:https://burlingtondowntown.ca/event/free-downtown-burlington-waterfront-walking-tours/2024-08-24/
LOCATION:Brant Street\, Downtown Burlington\, Ontario\, Canada
ATTACH;FMTTYPE=image/jpeg:https://burlingtondowntown.ca/wp-content/uploads/2024/06/PSX_20240627_214400.jpg
GEO:51.253775;-85.3232139
END:VEVENT
BEGIN:VEVENT
DTSTART;TZID=America/Toronto:20240823T133000
DTEND;TZID=America/Toronto:20240823T150000
DTSTAMP:20260421T211845
CREATED:20240628T210103Z
LAST-MODIFIED:20240628T210103Z
UID:35689-1724419800-1724425200@burlingtondowntown.ca
SUMMARY:FREE Downtown Burlington Waterfront Walking Tours
DESCRIPTION:Are you new to Burlington? Visiting our beautiful city?\nJoin us for a fun & easy walking tour of Downtown Burlington including the waterfront. We will be doing a loop of the downtown area including the waterfront and some of the hot spots of Downtown Burlington. Featuring Spencer Smith park\, our waterfront and downtown core route to check out some of the classic hot spots of the city. Sponsored by Tourism Burlington. Pre registration and waiver required . \nLength – Appx. 1.5 – 2 hours Group Size: 2-15
URL:https://burlingtondowntown.ca/event/free-downtown-burlington-waterfront-walking-tours/2024-08-23/
LOCATION:Brant Street\, Downtown Burlington\, Ontario\, Canada
ATTACH;FMTTYPE=image/jpeg:https://burlingtondowntown.ca/wp-content/uploads/2024/06/PSX_20240627_214400.jpg
GEO:51.253775;-85.3232139
END:VEVENT
BEGIN:VEVENT
DTSTART;TZID=America/Toronto:20240817T133000
DTEND;TZID=America/Toronto:20240817T150000
DTSTAMP:20260421T211845
CREATED:20240628T210103Z
LAST-MODIFIED:20240628T210103Z
UID:35688-1723901400-1723906800@burlingtondowntown.ca
SUMMARY:FREE Downtown Burlington Waterfront Walking Tours
DESCRIPTION:Are you new to Burlington? Visiting our beautiful city?\nJoin us for a fun & easy walking tour of Downtown Burlington including the waterfront. We will be doing a loop of the downtown area including the waterfront and some of the hot spots of Downtown Burlington. Featuring Spencer Smith park\, our waterfront and downtown core route to check out some of the classic hot spots of the city. Sponsored by Tourism Burlington. Pre registration and waiver required . \nLength – Appx. 1.5 – 2 hours Group Size: 2-15
URL:https://burlingtondowntown.ca/event/free-downtown-burlington-waterfront-walking-tours/2024-08-17/
LOCATION:Brant Street\, Downtown Burlington\, Ontario\, Canada
ATTACH;FMTTYPE=image/jpeg:https://burlingtondowntown.ca/wp-content/uploads/2024/06/PSX_20240627_214400.jpg
GEO:51.253775;-85.3232139
END:VEVENT
BEGIN:VEVENT
DTSTART;TZID=America/Toronto:20240816T133000
DTEND;TZID=America/Toronto:20240816T150000
DTSTAMP:20260421T211845
CREATED:20240628T210103Z
LAST-MODIFIED:20240628T210103Z
UID:35687-1723815000-1723820400@burlingtondowntown.ca
SUMMARY:FREE Downtown Burlington Waterfront Walking Tours
DESCRIPTION:Are you new to Burlington? Visiting our beautiful city?\nJoin us for a fun & easy walking tour of Downtown Burlington including the waterfront. We will be doing a loop of the downtown area including the waterfront and some of the hot spots of Downtown Burlington. Featuring Spencer Smith park\, our waterfront and downtown core route to check out some of the classic hot spots of the city. Sponsored by Tourism Burlington. Pre registration and waiver required . \nLength – Appx. 1.5 – 2 hours Group Size: 2-15
URL:https://burlingtondowntown.ca/event/free-downtown-burlington-waterfront-walking-tours/2024-08-16/
LOCATION:Brant Street\, Downtown Burlington\, Ontario\, Canada
ATTACH;FMTTYPE=image/jpeg:https://burlingtondowntown.ca/wp-content/uploads/2024/06/PSX_20240627_214400.jpg
GEO:51.253775;-85.3232139
END:VEVENT
BEGIN:VEVENT
DTSTART;TZID=America/Toronto:20240810T133000
DTEND;TZID=America/Toronto:20240810T150000
DTSTAMP:20260421T211845
CREATED:20240628T210059Z
LAST-MODIFIED:20240628T210059Z
UID:35652-1723296600-1723302000@burlingtondowntown.ca
SUMMARY:FREE Downtown Burlington Waterfront Walking Tours
DESCRIPTION:Are you new to Burlington? Visiting our beautiful city?\nJoin us for a fun & easy walking tour of Downtown Burlington including the waterfront. We will be doing a loop of the downtown area including the waterfront and some of the hot spots of Downtown Burlington. Featuring Spencer Smith park\, our waterfront and downtown core route to check out some of the classic hot spots of the city. Sponsored by Tourism Burlington. Pre registration and waiver required . \nLength – Appx. 1.5 – 2 hours Group Size: 2-15
URL:https://burlingtondowntown.ca/event/free-downtown-burlington-waterfront-walking-tours/2024-08-10/
LOCATION:Brant Street\, Downtown Burlington\, Ontario\, Canada
ATTACH;FMTTYPE=image/jpeg:https://burlingtondowntown.ca/wp-content/uploads/2024/06/PSX_20240627_214400.jpg
GEO:51.253775;-85.3232139
END:VEVENT
BEGIN:VEVENT
DTSTART;TZID=America/Toronto:20240809T133000
DTEND;TZID=America/Toronto:20240809T150000
DTSTAMP:20260421T211845
CREATED:20240628T210058Z
LAST-MODIFIED:20240628T210058Z
UID:35651-1723210200-1723215600@burlingtondowntown.ca
SUMMARY:FREE Downtown Burlington Waterfront Walking Tours
DESCRIPTION:Are you new to Burlington? Visiting our beautiful city?\nJoin us for a fun & easy walking tour of Downtown Burlington including the waterfront. We will be doing a loop of the downtown area including the waterfront and some of the hot spots of Downtown Burlington. Featuring Spencer Smith park\, our waterfront and downtown core route to check out some of the classic hot spots of the city. Sponsored by Tourism Burlington. Pre registration and waiver required . \nLength – Appx. 1.5 – 2 hours Group Size: 2-15
URL:https://burlingtondowntown.ca/event/free-downtown-burlington-waterfront-walking-tours/2024-08-09/
LOCATION:Brant Street\, Downtown Burlington\, Ontario\, Canada
ATTACH;FMTTYPE=image/jpeg:https://burlingtondowntown.ca/wp-content/uploads/2024/06/PSX_20240627_214400.jpg
GEO:51.253775;-85.3232139
END:VEVENT
BEGIN:VEVENT
DTSTART;TZID=America/Toronto:20240803T133000
DTEND;TZID=America/Toronto:20240803T150000
DTSTAMP:20260421T211845
CREATED:20240628T210058Z
LAST-MODIFIED:20240628T210058Z
UID:35650-1722691800-1722697200@burlingtondowntown.ca
SUMMARY:FREE Downtown Burlington Waterfront Walking Tours
DESCRIPTION:Are you new to Burlington? Visiting our beautiful city?\nJoin us for a fun & easy walking tour of Downtown Burlington including the waterfront. We will be doing a loop of the downtown area including the waterfront and some of the hot spots of Downtown Burlington. Featuring Spencer Smith park\, our waterfront and downtown core route to check out some of the classic hot spots of the city. Sponsored by Tourism Burlington. Pre registration and waiver required . \nLength – Appx. 1.5 – 2 hours Group Size: 2-15
URL:https://burlingtondowntown.ca/event/free-downtown-burlington-waterfront-walking-tours/2024-08-03/
LOCATION:Brant Street\, Downtown Burlington\, Ontario\, Canada
ATTACH;FMTTYPE=image/jpeg:https://burlingtondowntown.ca/wp-content/uploads/2024/06/PSX_20240627_214400.jpg
GEO:51.253775;-85.3232139
END:VEVENT
BEGIN:VEVENT
DTSTART;TZID=America/Toronto:20240802T133000
DTEND;TZID=America/Toronto:20240802T150000
DTSTAMP:20260421T211845
CREATED:20240628T210058Z
LAST-MODIFIED:20240628T210058Z
UID:35649-1722605400-1722610800@burlingtondowntown.ca
SUMMARY:FREE Downtown Burlington Waterfront Walking Tours
DESCRIPTION:Are you new to Burlington? Visiting our beautiful city?\nJoin us for a fun & easy walking tour of Downtown Burlington including the waterfront. We will be doing a loop of the downtown area including the waterfront and some of the hot spots of Downtown Burlington. Featuring Spencer Smith park\, our waterfront and downtown core route to check out some of the classic hot spots of the city. Sponsored by Tourism Burlington. Pre registration and waiver required . \nLength – Appx. 1.5 – 2 hours Group Size: 2-15
URL:https://burlingtondowntown.ca/event/free-downtown-burlington-waterfront-walking-tours/2024-08-02/
LOCATION:Brant Street\, Downtown Burlington\, Ontario\, Canada
ATTACH;FMTTYPE=image/jpeg:https://burlingtondowntown.ca/wp-content/uploads/2024/06/PSX_20240627_214400.jpg
GEO:51.253775;-85.3232139
END:VEVENT
BEGIN:VEVENT
DTSTART;TZID=America/Toronto:20240727T133000
DTEND;TZID=America/Toronto:20240727T150000
DTSTAMP:20260421T211845
CREATED:20240628T210058Z
LAST-MODIFIED:20240628T210058Z
UID:35648-1722087000-1722092400@burlingtondowntown.ca
SUMMARY:FREE Downtown Burlington Waterfront Walking Tours
DESCRIPTION:Are you new to Burlington? Visiting our beautiful city?\nJoin us for a fun & easy walking tour of Downtown Burlington including the waterfront. We will be doing a loop of the downtown area including the waterfront and some of the hot spots of Downtown Burlington. Featuring Spencer Smith park\, our waterfront and downtown core route to check out some of the classic hot spots of the city. Sponsored by Tourism Burlington. Pre registration and waiver required . \nLength – Appx. 1.5 – 2 hours Group Size: 2-15
URL:https://burlingtondowntown.ca/event/free-downtown-burlington-waterfront-walking-tours/2024-07-27/
LOCATION:Brant Street\, Downtown Burlington\, Ontario\, Canada
ATTACH;FMTTYPE=image/jpeg:https://burlingtondowntown.ca/wp-content/uploads/2024/06/PSX_20240627_214400.jpg
GEO:51.253775;-85.3232139
END:VEVENT
BEGIN:VEVENT
DTSTART;TZID=America/Toronto:20240726T133000
DTEND;TZID=America/Toronto:20240726T150000
DTSTAMP:20260421T211845
CREATED:20240628T210058Z
LAST-MODIFIED:20240628T210058Z
UID:35647-1722000600-1722006000@burlingtondowntown.ca
SUMMARY:FREE Downtown Burlington Waterfront Walking Tours
DESCRIPTION:Are you new to Burlington? Visiting our beautiful city?\nJoin us for a fun & easy walking tour of Downtown Burlington including the waterfront. We will be doing a loop of the downtown area including the waterfront and some of the hot spots of Downtown Burlington. Featuring Spencer Smith park\, our waterfront and downtown core route to check out some of the classic hot spots of the city. Sponsored by Tourism Burlington. Pre registration and waiver required . \nLength – Appx. 1.5 – 2 hours Group Size: 2-15
URL:https://burlingtondowntown.ca/event/free-downtown-burlington-waterfront-walking-tours/2024-07-26/
LOCATION:Brant Street\, Downtown Burlington\, Ontario\, Canada
ATTACH;FMTTYPE=image/jpeg:https://burlingtondowntown.ca/wp-content/uploads/2024/06/PSX_20240627_214400.jpg
GEO:51.253775;-85.3232139
END:VEVENT
BEGIN:VEVENT
DTSTART;TZID=America/Toronto:20240720T133000
DTEND;TZID=America/Toronto:20240720T150000
DTSTAMP:20260421T211845
CREATED:20240628T210058Z
LAST-MODIFIED:20240628T210058Z
UID:35646-1721482200-1721487600@burlingtondowntown.ca
SUMMARY:FREE Downtown Burlington Waterfront Walking Tours
DESCRIPTION:Are you new to Burlington? Visiting our beautiful city?\nJoin us for a fun & easy walking tour of Downtown Burlington including the waterfront. We will be doing a loop of the downtown area including the waterfront and some of the hot spots of Downtown Burlington. Featuring Spencer Smith park\, our waterfront and downtown core route to check out some of the classic hot spots of the city. Sponsored by Tourism Burlington. Pre registration and waiver required . \nLength – Appx. 1.5 – 2 hours Group Size: 2-15
URL:https://burlingtondowntown.ca/event/free-downtown-burlington-waterfront-walking-tours/2024-07-20/
LOCATION:Brant Street\, Downtown Burlington\, Ontario\, Canada
ATTACH;FMTTYPE=image/jpeg:https://burlingtondowntown.ca/wp-content/uploads/2024/06/PSX_20240627_214400.jpg
GEO:51.253775;-85.3232139
END:VEVENT
BEGIN:VEVENT
DTSTART;TZID=America/Toronto:20240719T133000
DTEND;TZID=America/Toronto:20240719T150000
DTSTAMP:20260421T211845
CREATED:20240628T210057Z
LAST-MODIFIED:20240628T210057Z
UID:35645-1721395800-1721401200@burlingtondowntown.ca
SUMMARY:FREE Downtown Burlington Waterfront Walking Tours
DESCRIPTION:Are you new to Burlington? Visiting our beautiful city?\nJoin us for a fun & easy walking tour of Downtown Burlington including the waterfront. We will be doing a loop of the downtown area including the waterfront and some of the hot spots of Downtown Burlington. Featuring Spencer Smith park\, our waterfront and downtown core route to check out some of the classic hot spots of the city. Sponsored by Tourism Burlington. Pre registration and waiver required . \nLength – Appx. 1.5 – 2 hours Group Size: 2-15
URL:https://burlingtondowntown.ca/event/free-downtown-burlington-waterfront-walking-tours/2024-07-19/
LOCATION:Brant Street\, Downtown Burlington\, Ontario\, Canada
ATTACH;FMTTYPE=image/jpeg:https://burlingtondowntown.ca/wp-content/uploads/2024/06/PSX_20240627_214400.jpg
GEO:51.253775;-85.3232139
END:VEVENT
BEGIN:VEVENT
DTSTART;TZID=America/Toronto:20240713T133000
DTEND;TZID=America/Toronto:20240713T150000
DTSTAMP:20260421T211845
CREATED:20240628T210057Z
LAST-MODIFIED:20240628T210057Z
UID:35644-1720877400-1720882800@burlingtondowntown.ca
SUMMARY:FREE Downtown Burlington Waterfront Walking Tours
DESCRIPTION:Are you new to Burlington? Visiting our beautiful city?\nJoin us for a fun & easy walking tour of Downtown Burlington including the waterfront. We will be doing a loop of the downtown area including the waterfront and some of the hot spots of Downtown Burlington. Featuring Spencer Smith park\, our waterfront and downtown core route to check out some of the classic hot spots of the city. Sponsored by Tourism Burlington. Pre registration and waiver required . \nLength – Appx. 1.5 – 2 hours Group Size: 2-15
URL:https://burlingtondowntown.ca/event/free-downtown-burlington-waterfront-walking-tours/2024-07-13/
LOCATION:Brant Street\, Downtown Burlington\, Ontario\, Canada
ATTACH;FMTTYPE=image/jpeg:https://burlingtondowntown.ca/wp-content/uploads/2024/06/PSX_20240627_214400.jpg
GEO:51.253775;-85.3232139
END:VEVENT
BEGIN:VEVENT
DTSTART;TZID=America/Toronto:20240712T133000
DTEND;TZID=America/Toronto:20240712T150000
DTSTAMP:20260421T211845
CREATED:20240628T210057Z
LAST-MODIFIED:20240628T210057Z
UID:35643-1720791000-1720796400@burlingtondowntown.ca
SUMMARY:FREE Downtown Burlington Waterfront Walking Tours
DESCRIPTION:Are you new to Burlington? Visiting our beautiful city?\nJoin us for a fun & easy walking tour of Downtown Burlington including the waterfront. We will be doing a loop of the downtown area including the waterfront and some of the hot spots of Downtown Burlington. Featuring Spencer Smith park\, our waterfront and downtown core route to check out some of the classic hot spots of the city. Sponsored by Tourism Burlington. Pre registration and waiver required . \nLength – Appx. 1.5 – 2 hours Group Size: 2-15
URL:https://burlingtondowntown.ca/event/free-downtown-burlington-waterfront-walking-tours/2024-07-12/
LOCATION:Brant Street\, Downtown Burlington\, Ontario\, Canada
ATTACH;FMTTYPE=image/jpeg:https://burlingtondowntown.ca/wp-content/uploads/2024/06/PSX_20240627_214400.jpg
GEO:51.253775;-85.3232139
END:VEVENT
BEGIN:VEVENT
DTSTART;TZID=America/Toronto:20240706T133000
DTEND;TZID=America/Toronto:20240706T150000
DTSTAMP:20260421T211845
CREATED:20240628T210057Z
LAST-MODIFIED:20240628T210057Z
UID:35640-1720272600-1720278000@burlingtondowntown.ca
SUMMARY:FREE Downtown Burlington Waterfront Walking Tours
DESCRIPTION:Are you new to Burlington? Visiting our beautiful city?\nJoin us for a fun & easy walking tour of Downtown Burlington including the waterfront. We will be doing a loop of the downtown area including the waterfront and some of the hot spots of Downtown Burlington. Featuring Spencer Smith park\, our waterfront and downtown core route to check out some of the classic hot spots of the city. Sponsored by Tourism Burlington. Pre registration and waiver required . \nLength – Appx. 1.5 – 2 hours Group Size: 2-15
URL:https://burlingtondowntown.ca/event/free-downtown-burlington-waterfront-walking-tours/2024-07-06/
LOCATION:Brant Street\, Downtown Burlington\, Ontario\, Canada
ATTACH;FMTTYPE=image/jpeg:https://burlingtondowntown.ca/wp-content/uploads/2024/06/PSX_20240627_214400.jpg
GEO:51.253775;-85.3232139
END:VEVENT
END:VCALENDAR